BEGIN:VCALENDAR
VERSION:2.0
PRODID:-//Fahrschule Cordes - ECPv6.15.20//NONSGML v1.0//EN
CALSCALE:GREGORIAN
METHOD:PUBLISH
X-ORIGINAL-URL:https://fahrschule-cordes.de
X-WR-CALDESC:Veranstaltungen für Fahrschule Cordes
REFRESH-INTERVAL;VALUE=DURATION:PT1H
X-Robots-Tag:noindex
X-PUBLISHED-TTL:PT1H
BEGIN:VTIMEZONE
TZID:UTC
BEGIN:STANDARD
TZOFFSETFROM:+0000
TZOFFSETTO:+0000
TZNAME:UTC
DTSTART:20240101T000000
END:STANDARD
END:VTIMEZONE
BEGIN:VEVENT
DTSTART;TZID=UTC:20260304T191500
DTEND;TZID=UTC:20260304T204500
DTSTAMP:20260422T110534
CREATED:20231210T072657Z
LAST-MODIFIED:20260105T174751Z
UID:986-1772651700-1772657100@fahrschule-cordes.de
SUMMARY:L 14 Th Schnellkurs Bookholzberg(Sonderunterricht B2)
DESCRIPTION:
URL:https://fahrschule-cordes.de/termin/l-14-th-schnellkurs-bookholzbergsonderunterricht-b2/
LOCATION:Fahrschule Ganderkesee
END:VEVENT
BEGIN:VEVENT
DTSTART;TZID=UTC:20260304T173000
DTEND;TZID=UTC:20260304T190000
DTSTAMP:20260422T110534
CREATED:20231210T072628Z
LAST-MODIFIED:20260105T174625Z
UID:987-1772645400-1772650800@fahrschule-cordes.de
SUMMARY:L 13  Th Schnellkurs Bookholzberg(Sonderunterricht B1)
DESCRIPTION:
URL:https://fahrschule-cordes.de/termin/l-13-th-schnellkurs-bookholzbergsonderunterricht-b1/
LOCATION:Fahrschule Ganderkesee
END:VEVENT
BEGIN:VEVENT
DTSTART;TZID=UTC:20260303T191500
DTEND;TZID=UTC:20260303T204500
DTSTAMP:20260422T110534
CREATED:20231210T072556Z
LAST-MODIFIED:20260105T174530Z
UID:988-1772565300-1772570700@fahrschule-cordes.de
SUMMARY:L 12 Th Schnellkurs Bookholzberg
DESCRIPTION:
URL:https://fahrschule-cordes.de/termin/l-12-th-schnellkurs-bookholzberg/
LOCATION:Fahrschule Ganderkesee
CATEGORIES:Bookholzberg
END:VEVENT
BEGIN:VEVENT
DTSTART;TZID=UTC:20260302T191500
DTEND;TZID=UTC:20260302T204500
DTSTAMP:20260422T110534
CREATED:20231210T072455Z
LAST-MODIFIED:20260105T174329Z
UID:990-1772478900-1772484300@fahrschule-cordes.de
SUMMARY:L 10 Th Schnellkurs Bookholzberg
DESCRIPTION:
URL:https://fahrschule-cordes.de/termin/l-10-th-schnellkurs-bookholzberg/
LOCATION:Fahrschule Ganderkesee
CATEGORIES:Bookholzberg
END:VEVENT
BEGIN:VEVENT
DTSTART;TZID=UTC:20260302T173000
DTEND;TZID=UTC:20260302T190000
DTSTAMP:20260422T110534
CREATED:20231210T072418Z
LAST-MODIFIED:20260105T174227Z
UID:991-1772472600-1772478000@fahrschule-cordes.de
SUMMARY:L 09 Th Schnellkurs Bookholzberg
DESCRIPTION:
URL:https://fahrschule-cordes.de/termin/l-09-th-schnellkurs-bookholzberg/
LOCATION:Fahrschule Ganderkesee
CATEGORIES:Bookholzberg
END:VEVENT
BEGIN:VEVENT
DTSTART;TZID=UTC:20260226T191500
DTEND;TZID=UTC:20260226T204500
DTSTAMP:20260422T110534
CREATED:20231210T072347Z
LAST-MODIFIED:20260105T174118Z
UID:992-1772133300-1772138700@fahrschule-cordes.de
SUMMARY:L 08 Th Schnellkurs Bookholzberg
DESCRIPTION:
URL:https://fahrschule-cordes.de/termin/l-08-th-schnellkurs-bookholzberg/
LOCATION:Fahrschule Ganderkesee
CATEGORIES:Bookholzberg
END:VEVENT
BEGIN:VEVENT
DTSTART;TZID=UTC:20260226T173000
DTEND;TZID=UTC:20260226T190000
DTSTAMP:20260422T110534
CREATED:20231210T072253Z
LAST-MODIFIED:20260105T174037Z
UID:993-1772127000-1772132400@fahrschule-cordes.de
SUMMARY:L 07 Th Schnellkurs Bookholzberg
DESCRIPTION:
URL:https://fahrschule-cordes.de/termin/l-07-th-schnellkurs-bookholzberg/
LOCATION:Fahrschule Ganderkesee
END:VEVENT
BEGIN:VEVENT
DTSTART;TZID=UTC:20260225T191500
DTEND;TZID=UTC:20260225T204500
DTSTAMP:20260422T110534
CREATED:20231210T072146Z
LAST-MODIFIED:20260105T173953Z
UID:994-1772046900-1772052300@fahrschule-cordes.de
SUMMARY:L 06 Th Schnellkurs Bookholzberg
DESCRIPTION:
URL:https://fahrschule-cordes.de/termin/l-06-th-schnellkurs-bookholzberg/
LOCATION:Fahrschule Ganderkesee
END:VEVENT
BEGIN:VEVENT
DTSTART;TZID=UTC:20260225T173000
DTEND;TZID=UTC:20260225T190000
DTSTAMP:20260422T110534
CREATED:20231210T072106Z
LAST-MODIFIED:20260105T173902Z
UID:1036-1772040600-1772046000@fahrschule-cordes.de
SUMMARY:L 05 Th Schnellkurs Bookholzberg
DESCRIPTION:
URL:https://fahrschule-cordes.de/termin/l-05-th-schnellkurs-bookholzberg/
LOCATION:Fahrschule Ganderkesee
END:VEVENT
BEGIN:VEVENT
DTSTART;TZID=UTC:20260224T191500
DTEND;TZID=UTC:20260224T204500
DTSTAMP:20260422T110534
CREATED:20231210T072002Z
LAST-MODIFIED:20260105T173807Z
UID:995-1771960500-1771965900@fahrschule-cordes.de
SUMMARY:L 04 Th Schnellkurs Bookholzberg
DESCRIPTION:
URL:https://fahrschule-cordes.de/termin/l-04-th-schnellkurs-bookholzberg/
LOCATION:Fahrschule Ganderkesee
CATEGORIES:Bookholzberg
END:VEVENT
BEGIN:VEVENT
DTSTART;TZID=UTC:20260224T173000
DTEND;TZID=UTC:20260224T190000
DTSTAMP:20260422T110534
CREATED:20231210T071934Z
LAST-MODIFIED:20260105T173703Z
UID:996-1771954200-1771959600@fahrschule-cordes.de
SUMMARY:L 03 Th Schnellkurs Bookholzberg
DESCRIPTION:
URL:https://fahrschule-cordes.de/termin/l-03-th-schnellkurs-bookholzberg/
LOCATION:Fahrschule Ganderkesee
CATEGORIES:Bookholzberg
END:VEVENT
BEGIN:VEVENT
DTSTART;TZID=UTC:20260223T191500
DTEND;TZID=UTC:20260223T204500
DTSTAMP:20260422T110534
CREATED:20231210T071841Z
LAST-MODIFIED:20260105T173614Z
UID:997-1771874100-1771879500@fahrschule-cordes.de
SUMMARY:L 02 Th Schnellkurs Bookholzberg
DESCRIPTION:
URL:https://fahrschule-cordes.de/termin/l-02-th-schnellkurs-bookholzberg/
LOCATION:Fahrschule Ganderkesee
CATEGORIES:Bookholzberg
END:VEVENT
BEGIN:VEVENT
DTSTART;TZID=UTC:20260128T191500
DTEND;TZID=UTC:20260128T204500
DTSTAMP:20260422T110534
CREATED:20240201T134921Z
LAST-MODIFIED:20260105T164644Z
UID:1396-1769627700-1769633100@fahrschule-cordes.de
SUMMARY:L 14 Th Schnellkurs Ganderkesee(Sonderunterricht B2)
DESCRIPTION:
URL:https://fahrschule-cordes.de/termin/l-14-th-schnellkurs-bookholzbergsonderunterricht-b2-5/
LOCATION:Fahrschule Ganderkesee
END:VEVENT
BEGIN:VEVENT
DTSTART;TZID=UTC:20260128T173000
DTEND;TZID=UTC:20260128T190000
DTSTAMP:20260422T110534
CREATED:20240201T134946Z
LAST-MODIFIED:20260105T164725Z
UID:1397-1769621400-1769626800@fahrschule-cordes.de
SUMMARY:L 13  Th Schnellkurs Ganderkesee(Sonderunterricht B1)
DESCRIPTION:
URL:https://fahrschule-cordes.de/termin/l-13-th-schnellkurs-bookholzbergsonderunterricht-b1-5/
LOCATION:Fahrschule Ganderkesee
END:VEVENT
BEGIN:VEVENT
DTSTART;TZID=UTC:20260127T191500
DTEND;TZID=UTC:20260127T204500
DTSTAMP:20260422T110534
CREATED:20240201T135009Z
LAST-MODIFIED:20260105T164812Z
UID:1398-1769541300-1769546700@fahrschule-cordes.de
SUMMARY:L 12 Th Schnellkurs Ganderkesee
DESCRIPTION:
URL:https://fahrschule-cordes.de/termin/l-12-th-schnellkurs-bookholzberg-5/
LOCATION:Fahrschule Ganderkesee
CATEGORIES:Bookholzberg
END:VEVENT
BEGIN:VEVENT
DTSTART;TZID=UTC:20260127T173000
DTEND;TZID=UTC:20260127T190000
DTSTAMP:20260422T110534
CREATED:20240201T135028Z
LAST-MODIFIED:20260105T164858Z
UID:1399-1769535000-1769540400@fahrschule-cordes.de
SUMMARY:L 11 Th Schnellkurs Ganderkesee
DESCRIPTION:
URL:https://fahrschule-cordes.de/termin/l-11-th-schnellkurs-bookholzberg-5/
LOCATION:Fahrschule Ganderkesee
CATEGORIES:Bookholzberg
END:VEVENT
BEGIN:VEVENT
DTSTART;TZID=UTC:20260126T191500
DTEND;TZID=UTC:20260126T204500
DTSTAMP:20260422T110534
CREATED:20240201T135046Z
LAST-MODIFIED:20260105T165035Z
UID:1400-1769454900-1769460300@fahrschule-cordes.de
SUMMARY:L 10 Th Schnellkurs Ganderkesee
DESCRIPTION:
URL:https://fahrschule-cordes.de/termin/l-10-th-schnellkurs-bookholzberg-5/
LOCATION:Fahrschule Ganderkesee
CATEGORIES:Bookholzberg
END:VEVENT
BEGIN:VEVENT
DTSTART;TZID=UTC:20260126T173000
DTEND;TZID=UTC:20260126T190000
DTSTAMP:20260422T110534
CREATED:20240201T135114Z
LAST-MODIFIED:20260105T164946Z
UID:1401-1769448600-1769454000@fahrschule-cordes.de
SUMMARY:L 09 Th Schnellkurs Ganderkesee
DESCRIPTION:
URL:https://fahrschule-cordes.de/termin/l-09-th-schnellkurs-bookholzberg-5/
LOCATION:Fahrschule Ganderkesee
CATEGORIES:Bookholzberg
END:VEVENT
BEGIN:VEVENT
DTSTART;TZID=UTC:20260122T191500
DTEND;TZID=UTC:20260122T204500
DTSTAMP:20260422T110534
CREATED:20240201T135149Z
LAST-MODIFIED:20260105T165130Z
UID:1402-1769109300-1769114700@fahrschule-cordes.de
SUMMARY:L 08 Th Schnellkurs Ganderkesee
DESCRIPTION:
URL:https://fahrschule-cordes.de/termin/l-08-th-schnellkurs-bookholzberg-5/
LOCATION:Fahrschule Ganderkesee
CATEGORIES:Bookholzberg
END:VEVENT
BEGIN:VEVENT
DTSTART;TZID=UTC:20260122T173000
DTEND;TZID=UTC:20260122T190000
DTSTAMP:20260422T110534
CREATED:20240201T134802Z
LAST-MODIFIED:20260105T165213Z
UID:1403-1769103000-1769108400@fahrschule-cordes.de
SUMMARY:L 07 Th Schnellkurs Ganderkesee
DESCRIPTION:
URL:https://fahrschule-cordes.de/termin/l-07-th-schnellkurs-bookholzberg-5/
LOCATION:Fahrschule Ganderkesee
END:VEVENT
BEGIN:VEVENT
DTSTART;TZID=UTC:20260121T191500
DTEND;TZID=UTC:20260121T204500
DTSTAMP:20260422T110534
CREATED:20240201T134827Z
LAST-MODIFIED:20260105T165302Z
UID:1404-1769022900-1769028300@fahrschule-cordes.de
SUMMARY:L 06 Th Schnellkurs Ganderkesee
DESCRIPTION:
URL:https://fahrschule-cordes.de/termin/l-06-th-schnellkurs-bookholzberg-5/
LOCATION:Fahrschule Ganderkesee
END:VEVENT
BEGIN:VEVENT
DTSTART;TZID=UTC:20260121T173000
DTEND;TZID=UTC:20260121T190000
DTSTAMP:20260422T110534
CREATED:20240201T135214Z
LAST-MODIFIED:20260105T165418Z
UID:1405-1769016600-1769022000@fahrschule-cordes.de
SUMMARY:L 05 Th Schnellkurs Ganderkesee
DESCRIPTION:
URL:https://fahrschule-cordes.de/termin/l-05-th-schnellkurs-bookholzberg-5/
LOCATION:Fahrschule Ganderkesee
END:VEVENT
BEGIN:VEVENT
DTSTART;TZID=UTC:20260120T191500
DTEND;TZID=UTC:20260120T204500
DTSTAMP:20260422T110534
CREATED:20240201T135236Z
LAST-MODIFIED:20260105T165508Z
UID:1406-1768936500-1768941900@fahrschule-cordes.de
SUMMARY:L 04 Th Schnellkurs Ganderkesee
DESCRIPTION:
URL:https://fahrschule-cordes.de/termin/l-04-th-schnellkurs-bookholzberg-5/
LOCATION:Fahrschule Ganderkesee
CATEGORIES:Bookholzberg
END:VEVENT
BEGIN:VEVENT
DTSTART;TZID=UTC:20260120T173000
DTEND;TZID=UTC:20260120T190000
DTSTAMP:20260422T110534
CREATED:20240201T135309Z
LAST-MODIFIED:20260105T165615Z
UID:1407-1768930200-1768935600@fahrschule-cordes.de
SUMMARY:L 03 Th Schnellkurs Ganderkesee
DESCRIPTION:
URL:https://fahrschule-cordes.de/termin/l-03-th-schnellkurs-bookholzberg-5/
LOCATION:Fahrschule Ganderkesee
CATEGORIES:Bookholzberg
END:VEVENT
BEGIN:VEVENT
DTSTART;TZID=UTC:20260119T191500
DTEND;TZID=UTC:20260119T204500
DTSTAMP:20260422T110534
CREATED:20240201T135330Z
LAST-MODIFIED:20260105T175735Z
UID:1408-1768850100-1768855500@fahrschule-cordes.de
SUMMARY:L 02 Th Schnellkurs Ganderkesee
DESCRIPTION:
URL:https://fahrschule-cordes.de/termin/l-02-th-schnellkurs-ganderkesee-5/
LOCATION:Fahrschule Ganderkesee
CATEGORIES:Bookholzberg
END:VEVENT
BEGIN:VEVENT
DTSTART;TZID=UTC:20260119T173000
DTEND;TZID=UTC:20260119T190000
DTSTAMP:20260422T110534
CREATED:20240201T134641Z
LAST-MODIFIED:20260105T175843Z
UID:1409-1768843800-1768849200@fahrschule-cordes.de
SUMMARY:L 01 Th Schnellkurs Ganderkesee
DESCRIPTION:
URL:https://fahrschule-cordes.de/termin/l-01-th-schnellkurs-ganderkesee-4-2/
LOCATION:Fahrschule Ganderkesee
END:VEVENT
BEGIN:VEVENT
DTSTART;TZID=UTC:20251217T191500
DTEND;TZID=UTC:20251217T204500
DTSTAMP:20260422T110534
CREATED:20251106T092944Z
LAST-MODIFIED:20251106T092944Z
UID:2907-1765998900-1766004300@fahrschule-cordes.de
SUMMARY:L 14  Th Schnellkurs Ganderkesee(Sonderunterricht B2)
DESCRIPTION:
URL:https://fahrschule-cordes.de/termin/l-14-th-schnellkurs-ganderkeseesonderunterricht-b2-5/
LOCATION:Fahrschule Ganderkesee
END:VEVENT
BEGIN:VEVENT
DTSTART;TZID=UTC:20251217T173000
DTEND;TZID=UTC:20251217T190000
DTSTAMP:20260422T110534
CREATED:20250124T124723Z
LAST-MODIFIED:20250124T124723Z
UID:1872-1765992600-1765998000@fahrschule-cordes.de
SUMMARY:L 13  Th Schnellkurs Ganderkesee(Sonderunterricht B1)
DESCRIPTION:
URL:https://fahrschule-cordes.de/termin/l-13-th-schnellkurs-ganderkeseesonderunterricht-b1-4/
LOCATION:Fahrschule Ganderkesee
END:VEVENT
BEGIN:VEVENT
DTSTART;TZID=UTC:20251216T191500
DTEND;TZID=UTC:20251216T204500
DTSTAMP:20260422T110534
CREATED:20250124T124643Z
LAST-MODIFIED:20250124T124643Z
UID:1873-1765912500-1765917900@fahrschule-cordes.de
SUMMARY:L 12 Th Schnellkurs Ganderkesee
DESCRIPTION:
URL:https://fahrschule-cordes.de/termin/l-12-th-schnellkurs-ganderkesee-4/
LOCATION:Fahrschule Ganderkesee
CATEGORIES:Bookholzberg
END:VEVENT
BEGIN:VEVENT
DTSTART;TZID=UTC:20251216T173000
DTEND;TZID=UTC:20251216T190000
DTSTAMP:20260422T110534
CREATED:20250124T124616Z
LAST-MODIFIED:20251106T093125Z
UID:1874-1765906200-1765911600@fahrschule-cordes.de
SUMMARY:L 11 Th Schnellkurs Ganderkesee
DESCRIPTION:
URL:https://fahrschule-cordes.de/termin/l-11-th-schnellkurs-ganderkesee-4/
LOCATION:Fahrschule Ganderkesee
CATEGORIES:Bookholzberg
END:VEVENT
END:VCALENDAR