BEGIN:VCALENDAR
VERSION:2.0
PRODID:-//Fahrschule Cordes - ECPv6.15.20//NONSGML v1.0//EN
CALSCALE:GREGORIAN
METHOD:PUBLISH
X-WR-CALNAME:Fahrschule Cordes
X-ORIGINAL-URL:https://fahrschule-cordes.de
X-WR-CALDESC:Veranstaltungen für Fahrschule Cordes
REFRESH-INTERVAL;VALUE=DURATION:PT1H
X-Robots-Tag:noindex
X-PUBLISHED-TTL:PT1H
BEGIN:VTIMEZONE
TZID:UTC
BEGIN:STANDARD
TZOFFSETFROM:+0000
TZOFFSETTO:+0000
TZNAME:UTC
DTSTART:20230101T000000
END:STANDARD
END:VTIMEZONE
BEGIN:VEVENT
DTSTART;TZID=UTC:20241127T191500
DTEND;TZID=UTC:20241127T204500
DTSTAMP:20260423T045246
CREATED:20231210T103355Z
LAST-MODIFIED:20231210T103355Z
UID:1200-1732734900-1732740300@fahrschule-cordes.de
SUMMARY:L 06 Th Schnellkurs Bookholzberg
DESCRIPTION:
URL:https://fahrschule-cordes.de/termin/l-06-th-schnellkurs-bookholzberg-4/
LOCATION:Fahrschule Ganderkesee
END:VEVENT
BEGIN:VEVENT
DTSTART;TZID=UTC:20241127T173000
DTEND;TZID=UTC:20241127T190000
DTSTAMP:20260423T045246
CREATED:20231210T103333Z
LAST-MODIFIED:20231210T103333Z
UID:1201-1732728600-1732734000@fahrschule-cordes.de
SUMMARY:L 05 Th Schnellkurs Bookholzberg
DESCRIPTION:
URL:https://fahrschule-cordes.de/termin/l-05-th-schnellkurs-bookholzberg-4/
LOCATION:Fahrschule Ganderkesee
END:VEVENT
BEGIN:VEVENT
DTSTART;TZID=UTC:20241126T191500
DTEND;TZID=UTC:20241126T204500
DTSTAMP:20260423T045246
CREATED:20231210T103312Z
LAST-MODIFIED:20231210T103312Z
UID:1202-1732648500-1732653900@fahrschule-cordes.de
SUMMARY:L 04 Th Schnellkurs Bookholzberg
DESCRIPTION:
URL:https://fahrschule-cordes.de/termin/l-04-th-schnellkurs-bookholzberg-4/
LOCATION:Fahrschule Ganderkesee
CATEGORIES:Bookholzberg
END:VEVENT
BEGIN:VEVENT
DTSTART;TZID=UTC:20241126T173000
DTEND;TZID=UTC:20241126T190000
DTSTAMP:20260423T045246
CREATED:20231210T103244Z
LAST-MODIFIED:20231210T103244Z
UID:1203-1732642200-1732647600@fahrschule-cordes.de
SUMMARY:L 03 Th Schnellkurs Bookholzberg
DESCRIPTION:
URL:https://fahrschule-cordes.de/termin/l-03-th-schnellkurs-bookholzberg-4/
LOCATION:Fahrschule Ganderkesee
CATEGORIES:Bookholzberg
END:VEVENT
BEGIN:VEVENT
DTSTART;TZID=UTC:20241125T191500
DTEND;TZID=UTC:20241125T204500
DTSTAMP:20260423T045246
CREATED:20231210T103220Z
LAST-MODIFIED:20231210T103220Z
UID:1204-1732562100-1732567500@fahrschule-cordes.de
SUMMARY:L 02 Th Schnellkurs Bookholzberg
DESCRIPTION:
URL:https://fahrschule-cordes.de/termin/l-02-th-schnellkurs-bookholzberg-4/
LOCATION:Fahrschule Ganderkesee
CATEGORIES:Bookholzberg
END:VEVENT
END:VCALENDAR