BEGIN:VCALENDAR
VERSION:2.0
PRODID:-//Fahrschule Cordes - ECPv6.15.20//NONSGML v1.0//EN
CALSCALE:GREGORIAN
METHOD:PUBLISH
X-WR-CALNAME:Fahrschule Cordes
X-ORIGINAL-URL:https://fahrschule-cordes.de
X-WR-CALDESC:Veranstaltungen für Fahrschule Cordes
REFRESH-INTERVAL;VALUE=DURATION:PT1H
X-Robots-Tag:noindex
X-PUBLISHED-TTL:PT1H
BEGIN:VTIMEZONE
TZID:UTC
BEGIN:STANDARD
TZOFFSETFROM:+0000
TZOFFSETTO:+0000
TZNAME:UTC
DTSTART:20240101T000000
END:STANDARD
END:VTIMEZONE
BEGIN:VEVENT
DTSTART;TZID=UTC:20250925T173000
DTEND;TZID=UTC:20250925T190000
DTSTAMP:20260422T182305
CREATED:20250124T123137Z
LAST-MODIFIED:20250826T101720Z
UID:1946-1758821400-1758826800@fahrschule-cordes.de
SUMMARY:Schnellkurs L 07 Geschwindigkeit\, Abstand und umweltschonende Fahrweise
DESCRIPTION:
URL:https://fahrschule-cordes.de/termin/l-07-th-schnellkurs-ganderkesee-3/
LOCATION:Fahrschule Ganderkesee
END:VEVENT
BEGIN:VEVENT
DTSTART;TZID=UTC:20250924T191500
DTEND;TZID=UTC:20250924T204500
DTSTAMP:20260422T182305
CREATED:20250124T123103Z
LAST-MODIFIED:20250821T115353Z
UID:1947-1758741300-1758746700@fahrschule-cordes.de
SUMMARY:Schnellkurs L 06 Verkehrsregelungen\, Bahnübergänge
DESCRIPTION:
URL:https://fahrschule-cordes.de/termin/l-06-th-schnellkurs-ganderkesee-3/
LOCATION:Fahrschule Ganderkesee
END:VEVENT
BEGIN:VEVENT
DTSTART;TZID=UTC:20250924T173000
DTEND;TZID=UTC:20250924T190000
DTSTAMP:20260422T182305
CREATED:20250124T123035Z
LAST-MODIFIED:20250821T115141Z
UID:1948-1758735000-1758740400@fahrschule-cordes.de
SUMMARY:Schnellkurs L 05 Vorfahrt
DESCRIPTION:
URL:https://fahrschule-cordes.de/termin/l-05-th-schnellkurs-ganderkesee-3/
LOCATION:Fahrschule Ganderkesee
END:VEVENT
BEGIN:VEVENT
DTSTART;TZID=UTC:20250923T191500
DTEND;TZID=UTC:20250923T204500
DTSTAMP:20260422T182305
CREATED:20250124T123008Z
LAST-MODIFIED:20250821T115056Z
UID:1949-1758654900-1758660300@fahrschule-cordes.de
SUMMARY:Schnellkurs L 04 Straßenverkehrssystem und seine Nutzung
DESCRIPTION:
URL:https://fahrschule-cordes.de/termin/l-04-th-schnellkurs-ganderkesee-3/
LOCATION:Fahrschule Ganderkesee
END:VEVENT
BEGIN:VEVENT
DTSTART;TZID=UTC:20250923T173000
DTEND;TZID=UTC:20250923T190000
DTSTAMP:20260422T182305
CREATED:20250124T121909Z
LAST-MODIFIED:20250821T114821Z
UID:1885-1758648600-1758654000@fahrschule-cordes.de
SUMMARY:Schnellkurs L 03 Verkehrszeichen und Verkehrseinrichtungen
DESCRIPTION:
URL:https://fahrschule-cordes.de/termin/l-03-th-schnellkurs-ganderkesee-2/
LOCATION:Fahrschule Ganderkesee
END:VEVENT
BEGIN:VEVENT
DTSTART;TZID=UTC:20250922T191500
DTEND;TZID=UTC:20250922T204500
DTSTAMP:20260422T182305
CREATED:20250124T122942Z
LAST-MODIFIED:20250821T114842Z
UID:1944-1758568500-1758573900@fahrschule-cordes.de
SUMMARY:Schnellkurs L 02 Rechtliche Rahmenbedingungen
DESCRIPTION:
URL:https://fahrschule-cordes.de/termin/l-02-th-schnellkurs-ganderkesee-3/
LOCATION:Fahrschule Ganderkesee
END:VEVENT
BEGIN:VEVENT
DTSTART;TZID=UTC:20250922T173000
DTEND;TZID=UTC:20250922T190000
DTSTAMP:20260422T182305
CREATED:20250124T122905Z
LAST-MODIFIED:20250821T115004Z
UID:1945-1758562200-1758567600@fahrschule-cordes.de
SUMMARY:Schnellkurs L 01 Persönliche Voraussetzungen
DESCRIPTION:
URL:https://fahrschule-cordes.de/termin/l-01-th-schnellkurs-ganderkesee-3/
LOCATION:Fahrschule Ganderkesee
END:VEVENT
BEGIN:VEVENT
DTSTART;TZID=UTC:20250812T103000
DTEND;TZID=UTC:20250812T120000
DTSTAMP:20260422T182305
CREATED:20250623T163336Z
LAST-MODIFIED:20250623T163336Z
UID:2170-1754994600-1755000000@fahrschule-cordes.de
SUMMARY:L 14 Th Ferienkurs Ganderkesee
DESCRIPTION:
URL:https://fahrschule-cordes.de/termin/l-14-th-ferienkurs-ganderkesee/
LOCATION:Fahrschule Ganderkesee
END:VEVENT
BEGIN:VEVENT
DTSTART;TZID=UTC:20250812T084500
DTEND;TZID=UTC:20250812T101500
DTSTAMP:20260422T182305
CREATED:20250623T163425Z
LAST-MODIFIED:20250623T163425Z
UID:2171-1754988300-1754993700@fahrschule-cordes.de
SUMMARY:L 13 Th Ferienkurs Ganderkesee
DESCRIPTION:
URL:https://fahrschule-cordes.de/termin/l-13-th-ferienkurs-ganderkesee/
LOCATION:Fahrschule Ganderkesee
END:VEVENT
BEGIN:VEVENT
DTSTART;TZID=UTC:20250811T103000
DTEND;TZID=UTC:20250811T120000
DTSTAMP:20260422T182305
CREATED:20250623T163450Z
LAST-MODIFIED:20250623T163450Z
UID:2172-1754908200-1754913600@fahrschule-cordes.de
SUMMARY:L 12 Th Ferienkurs Ganderkesee
DESCRIPTION:
URL:https://fahrschule-cordes.de/termin/l-12-th-ferienkurs-ganderkesee-2/
LOCATION:Fahrschule Ganderkesee
END:VEVENT
BEGIN:VEVENT
DTSTART;TZID=UTC:20250811T084500
DTEND;TZID=UTC:20250811T101500
DTSTAMP:20260422T182305
CREATED:20250623T163513Z
LAST-MODIFIED:20250623T163513Z
UID:2173-1754901900-1754907300@fahrschule-cordes.de
SUMMARY:L 11 Th Ferienkurs Ganderkesee
DESCRIPTION:
URL:https://fahrschule-cordes.de/termin/l-11-th-ferienkurs-ganderkesee-2/
LOCATION:Fahrschule Ganderkesee
END:VEVENT
BEGIN:VEVENT
DTSTART;TZID=UTC:20250808T103000
DTEND;TZID=UTC:20250808T120000
DTSTAMP:20260422T182305
CREATED:20250623T163540Z
LAST-MODIFIED:20250623T163540Z
UID:2174-1754649000-1754654400@fahrschule-cordes.de
SUMMARY:L 10 Th Ferienkurs Ganderkesee
DESCRIPTION:
URL:https://fahrschule-cordes.de/termin/l-10-th-ferienkurs-ganderkesee-2/
LOCATION:Fahrschule Ganderkesee
END:VEVENT
BEGIN:VEVENT
DTSTART;TZID=UTC:20250808T084500
DTEND;TZID=UTC:20250808T101500
DTSTAMP:20260422T182305
CREATED:20250623T163614Z
LAST-MODIFIED:20250623T163614Z
UID:2175-1754642700-1754648100@fahrschule-cordes.de
SUMMARY:L 09 Th Ferienkurs Ganderkesee
DESCRIPTION:
URL:https://fahrschule-cordes.de/termin/l-09-th-ferienkurs-ganderkesee-2/
LOCATION:Fahrschule Ganderkesee
END:VEVENT
BEGIN:VEVENT
DTSTART;TZID=UTC:20250807T103000
DTEND;TZID=UTC:20250807T120000
DTSTAMP:20260422T182305
CREATED:20250623T163640Z
LAST-MODIFIED:20250623T163640Z
UID:2176-1754562600-1754568000@fahrschule-cordes.de
SUMMARY:L 08 Kompaktkurs Ganderkesee
DESCRIPTION:
URL:https://fahrschule-cordes.de/termin/l-08-kompaktkurs-ganderkesee/
LOCATION:Fahrschule Ganderkesee
END:VEVENT
BEGIN:VEVENT
DTSTART;TZID=UTC:20250807T084500
DTEND;TZID=UTC:20250807T101500
DTSTAMP:20260422T182305
CREATED:20250623T163730Z
LAST-MODIFIED:20250623T163730Z
UID:2177-1754556300-1754561700@fahrschule-cordes.de
SUMMARY:L 07 Th Ferienkurs Ganderkesee
DESCRIPTION:
URL:https://fahrschule-cordes.de/termin/l-07-th-ferienkurs-ganderkesee-2/
LOCATION:Fahrschule Ganderkesee
END:VEVENT
BEGIN:VEVENT
DTSTART;TZID=UTC:20250806T103000
DTEND;TZID=UTC:20250806T120000
DTSTAMP:20260422T182305
CREATED:20250623T163801Z
LAST-MODIFIED:20250623T163801Z
UID:2178-1754476200-1754481600@fahrschule-cordes.de
SUMMARY:L 06 Th Ferienkurs Ganderkesee
DESCRIPTION:
URL:https://fahrschule-cordes.de/termin/l-06-th-ferienkurs-ganderkesee-2/
LOCATION:Fahrschule Ganderkesee
END:VEVENT
BEGIN:VEVENT
DTSTART;TZID=UTC:20250806T084500
DTEND;TZID=UTC:20250806T101500
DTSTAMP:20260422T182305
CREATED:20250623T163247Z
LAST-MODIFIED:20250623T163247Z
UID:2179-1754469900-1754475300@fahrschule-cordes.de
SUMMARY:L 05 Th Ferienkurs Ganderkesee
DESCRIPTION:
URL:https://fahrschule-cordes.de/termin/l-05-th-ferienkurs-ganderkesee-2/
LOCATION:Fahrschule Ganderkesee
END:VEVENT
BEGIN:VEVENT
DTSTART;TZID=UTC:20250805T103000
DTEND;TZID=UTC:20250805T120000
DTSTAMP:20260422T182305
CREATED:20250623T163212Z
LAST-MODIFIED:20250623T163212Z
UID:2180-1754389800-1754395200@fahrschule-cordes.de
SUMMARY:L 04 Th Ferienkurs Ganderkesee
DESCRIPTION:
URL:https://fahrschule-cordes.de/termin/l-04-th-ferienkurs-ganderkesee-2/
LOCATION:Fahrschule Ganderkesee
END:VEVENT
BEGIN:VEVENT
DTSTART;TZID=UTC:20250805T084500
DTEND;TZID=UTC:20250805T101500
DTSTAMP:20260422T182305
CREATED:20250623T163148Z
LAST-MODIFIED:20250623T163148Z
UID:2181-1754383500-1754388900@fahrschule-cordes.de
SUMMARY:L 03 Th Ferienkurs Ganderkesee
DESCRIPTION:
URL:https://fahrschule-cordes.de/termin/l-03-th-ferienkurs-ganderkesee-2/
LOCATION:Fahrschule Ganderkesee
END:VEVENT
BEGIN:VEVENT
DTSTART;TZID=UTC:20250804T103000
DTEND;TZID=UTC:20250804T120000
DTSTAMP:20260422T182305
CREATED:20250623T162946Z
LAST-MODIFIED:20250623T162947Z
UID:2182-1754303400-1754308800@fahrschule-cordes.de
SUMMARY:L 02 Th Ferienkurs Ganderkesee
DESCRIPTION:
URL:https://fahrschule-cordes.de/termin/l-02-th-ferienkurs-ganderkesee-2/
LOCATION:Fahrschule Ganderkesee
END:VEVENT
BEGIN:VEVENT
DTSTART;TZID=UTC:20250804T084500
DTEND;TZID=UTC:20250804T101500
DTSTAMP:20260422T182305
CREATED:20250623T162916Z
LAST-MODIFIED:20250623T162916Z
UID:2183-1754297100-1754302500@fahrschule-cordes.de
SUMMARY:L 01 Th Ferienkurs Ganderkesee
DESCRIPTION:
URL:https://fahrschule-cordes.de/termin/l-01-th-ferienkurs-ganderkesee-2/
LOCATION:Fahrschule Ganderkesee
END:VEVENT
BEGIN:VEVENT
DTSTART;TZID=UTC:20250728T191500
DTEND;TZID=UTC:20250728T204500
DTSTAMP:20260422T182305
CREATED:20250124T124747Z
LAST-MODIFIED:20250709T124341Z
UID:1871-1753730100-1753735500@fahrschule-cordes.de
SUMMARY:L 14 Th Schnellkurs Ganderkesee(Sonderunterricht B2)
DESCRIPTION:
URL:https://fahrschule-cordes.de/termin/l-14-th-schnellkurs-ganderkeseesonderunterricht-b2-4/
LOCATION:Fahrschule Ganderkesee
END:VEVENT
BEGIN:VEVENT
DTSTART;TZID=UTC:20250619T191500
DTEND;TZID=UTC:20250619T204500
DTSTAMP:20260422T182305
CREATED:20250124T121341Z
LAST-MODIFIED:20250124T121341Z
UID:1897-1750360500-1750365900@fahrschule-cordes.de
SUMMARY:L 14 Th Schnellkurs Ganderkesee(Sonderunterricht B2)
DESCRIPTION:
URL:https://fahrschule-cordes.de/termin/l-14-th-schnellkurs-ganderkeseesonderunterricht-b2-2/
LOCATION:Fahrschule Ganderkesee
END:VEVENT
BEGIN:VEVENT
DTSTART;TZID=UTC:20250619T173000
DTEND;TZID=UTC:20250619T190000
DTSTAMP:20260422T182305
CREATED:20250124T121313Z
LAST-MODIFIED:20250124T121313Z
UID:1898-1750354200-1750359600@fahrschule-cordes.de
SUMMARY:L 13  Th Schnellkurs Ganderkesee(Sonderunterricht B1)
DESCRIPTION:
URL:https://fahrschule-cordes.de/termin/l-13-th-schnellkurs-ganderkeseesonderunterricht-b1-2/
LOCATION:Fahrschule Ganderkesee
END:VEVENT
BEGIN:VEVENT
DTSTART;TZID=UTC:20250618T191500
DTEND;TZID=UTC:20250618T204500
DTSTAMP:20260422T182305
CREATED:20250124T121411Z
LAST-MODIFIED:20250124T121411Z
UID:1892-1750274100-1750279500@fahrschule-cordes.de
SUMMARY:L 12 Th Schnellkurs Ganderkesee
DESCRIPTION:
URL:https://fahrschule-cordes.de/termin/l-12-th-schnellkurs-ganderkesee-2/
LOCATION:Fahrschule Ganderkesee
CATEGORIES:Bookholzberg
END:VEVENT
BEGIN:VEVENT
DTSTART;TZID=UTC:20250618T173000
DTEND;TZID=UTC:20250618T190000
DTSTAMP:20260422T182305
CREATED:20250124T121440Z
LAST-MODIFIED:20250124T121440Z
UID:1893-1750267800-1750273200@fahrschule-cordes.de
SUMMARY:L 11 Th Schnellkurs Ganderkesee
DESCRIPTION:
URL:https://fahrschule-cordes.de/termin/l-11-th-schnellkurs-ganderkesee-2/
LOCATION:Fahrschule Ganderkesee
CATEGORIES:Bookholzberg
END:VEVENT
BEGIN:VEVENT
DTSTART;TZID=UTC:20250617T191500
DTEND;TZID=UTC:20250617T204500
DTSTAMP:20260422T182305
CREATED:20250124T121646Z
LAST-MODIFIED:20250124T121646Z
UID:1894-1750187700-1750193100@fahrschule-cordes.de
SUMMARY:L 10 Th Schnellkurs Ganderkesee
DESCRIPTION:
URL:https://fahrschule-cordes.de/termin/l-10-th-schnellkurs-ganderkesee-2/
LOCATION:Fahrschule Ganderkesee
CATEGORIES:Bookholzberg
END:VEVENT
BEGIN:VEVENT
DTSTART;TZID=UTC:20250617T173000
DTEND;TZID=UTC:20250617T190000
DTSTAMP:20260422T182305
CREATED:20250124T122228Z
LAST-MODIFIED:20250124T122228Z
UID:1895-1750181400-1750186800@fahrschule-cordes.de
SUMMARY:L 09 Th Schnellkurs Ganderkesee
DESCRIPTION:
URL:https://fahrschule-cordes.de/termin/l-09-th-schnellkurs-ganderkesee-2/
LOCATION:Fahrschule Ganderkesee
CATEGORIES:Bookholzberg
END:VEVENT
BEGIN:VEVENT
DTSTART;TZID=UTC:20250616T191500
DTEND;TZID=UTC:20250616T204500
DTSTAMP:20260422T182305
CREATED:20250124T122207Z
LAST-MODIFIED:20250124T122207Z
UID:1896-1750101300-1750106700@fahrschule-cordes.de
SUMMARY:L 08 Th Schnellkurs Ganderkesee
DESCRIPTION:
URL:https://fahrschule-cordes.de/termin/l-08-th-schnellkurs-ganderkesee-2/
LOCATION:Fahrschule Ganderkesee
CATEGORIES:Bookholzberg
END:VEVENT
BEGIN:VEVENT
DTSTART;TZID=UTC:20250616T173000
DTEND;TZID=UTC:20250616T190000
DTSTAMP:20260422T182305
CREATED:20250124T122143Z
LAST-MODIFIED:20250124T122143Z
UID:1888-1750095000-1750100400@fahrschule-cordes.de
SUMMARY:L 07 Th Schnellkurs Ganderkesee
DESCRIPTION:
URL:https://fahrschule-cordes.de/termin/l-07-th-schnellkurs-ganderkesee-2/
LOCATION:Fahrschule Ganderkesee
END:VEVENT
END:VCALENDAR